BEGIN:VCALENDAR
VERSION:2.0
METHOD:REQUEST
PRODID:-//ddaysoftware//NONSGML DDay.iCal 1.0//EN
BEGIN:VTIMEZONE
TZID:Eastern Standard Time
BEGIN:STANDARD
DTSTART:20071102T020000
RRULE:FREQ=YEARLY;BYDAY=1SU;BYHOUR=2;BYMINUTE=0;BYMONTH=11
TZNAME:Eastern Standard Time
TZOFFSETFROM:-0400
TZOFFSETTO:-0500
END:STANDARD
BEGIN:DAYLIGHT
DTSTART:20070301T020000
RRULE:FREQ=YEARLY;BYDAY=2SU;BYHOUR=2;BYMINUTE=0;BYMONTH=3
TZNAME:Eastern Daylight Time
TZOFFSETFROM:-0500
TZOFFSETTO:-0400
END:DAYLIGHT
END:VTIMEZONE
BEGIN:VEVENT
DESCRIPTION:test\n\n
DTEND;TZID=Eastern Standard Time:20260408T120000
DTSTAMP:20260408T144851Z
DTSTART;TZID=Eastern Standard Time:20260408T113000
LAST-MODIFIED:20260408T144851Z
LOCATION:
ORGANIZER;CN=Ben Simpson via TESTING ITI - HUB:MAILTO:a35016ac-7518-413b-92
 c9-9b317d60dbdd.21@testing.insidetheigloo.com
SEQUENCE:1
SUMMARY:Ben's Event - edit
UID:a35016ac-7518-413b-92c9-9b317d60dbdd
X-ALT-DESC;FMTTYPE=text/html;FMTTYPE=text/html:<div><p>test</p></div>\n\n
END:VEVENT
END:VCALENDAR
